BEGIN:VCALENDAR
VERSION:2.0
PRODID:-//USC Center for Effective Organizations - ECPv6.15.20//NONSGML v1.0//EN
CALSCALE:GREGORIAN
METHOD:PUBLISH
X-WR-CALNAME:USC Center for Effective Organizations
X-ORIGINAL-URL:https://ceo.usc.edu
X-WR-CALDESC:Events for USC Center for Effective Organizations
REFRESH-INTERVAL;VALUE=DURATION:PT1H
X-Robots-Tag:noindex
X-PUBLISHED-TTL:PT1H
BEGIN:VTIMEZONE
TZID:America/Los_Angeles
BEGIN:DAYLIGHT
TZOFFSETFROM:-0800
TZOFFSETTO:-0700
TZNAME:PDT
DTSTART:20190310T100000
END:DAYLIGHT
BEGIN:STANDARD
TZOFFSETFROM:-0700
TZOFFSETTO:-0800
TZNAME:PST
DTSTART:20191103T090000
END:STANDARD
BEGIN:DAYLIGHT
TZOFFSETFROM:-0800
TZOFFSETTO:-0700
TZNAME:PDT
DTSTART:20200308T100000
END:DAYLIGHT
BEGIN:STANDARD
TZOFFSETFROM:-0700
TZOFFSETTO:-0800
TZNAME:PST
DTSTART:20201101T090000
END:STANDARD
BEGIN:DAYLIGHT
TZOFFSETFROM:-0800
TZOFFSETTO:-0700
TZNAME:PDT
DTSTART:20210314T100000
END:DAYLIGHT
BEGIN:STANDARD
TZOFFSETFROM:-0700
TZOFFSETTO:-0800
TZNAME:PST
DTSTART:20211107T090000
END:STANDARD
END:VTIMEZONE
BEGIN:VEVENT
DTSTART;VALUE=DATE:20201019
DTEND;VALUE=DATE:20201025
DTSTAMP:20260422T164454
CREATED:20200615T224312Z
LAST-MODIFIED:20210315T170654Z
UID:64075-1603065600-1603583999@ceo.usc.edu
SUMMARY:ERG Leadership Summit Week:  A Virtual Event
DESCRIPTION:Event Sponsors\n			 \n				\n				\n				\n				\n				\n					\n							 	\n									\n				\n				\n				\n				\n				\n					\n								\n									\n								\n								\n									\n									 \n									\n								\n							\n				\n			\n				\n				\n				\n				\n				\n					\n								\n									\n								\n								\n									\n									\n									\n								\n							\n				\n			\n				\n				\n				\n				\n				\n					\n								\n									\n								\n								\n									\n									 \n									\n								\n							\n				\n			\n				\n				\n				\n				\n				\n					\n								\n									\n								\n								\n									\n									\n									\n								\n							\n				\n			\n				\n				\n				\n				\n				\n					\n								\n									\n								\n								\n									\n									 \n									\n								\n							\n				\n			\n				\n				\n				\n				\n				\n					\n								\n									\n								\n								\n									\n									 \n									\n								\n							\n				\n			\n				\n				\n				\n				\n				\n					\n								\n									\n								\n								\n									\n									 \n									\n								\n							\n				\n			\n				\n				\n				\n				\n				\n					\n								\n									\n								\n								\n									\n									 \n									\n								\n							\n				\n			\n				\n				\n				\n				\n				\n					\n								\n									\n								\n								\n									\n									\n									\n								\n							\n				\n			\n				\n				\n				\n				\n				\n					\n								\n									\n								\n								\n									\n									 \n									\n								\n							\n				\n			\n				\n				\n				\n				\n				\n					\n								\n									\n								\n								\n									\n									\n									\n								\n							\n				\n			\n				\n				\n				\n				\n				\n					\n								\n									\n								\n								\n									\n									 \n									\n								\n							\n				\n			\n				\n				\n				\n				\n				\n					\n								\n									\n								\n								\n									\n									\n									\n								\n							\n				\n			\n				\n				\n				\n				\n				\n					\n								\n									\n								\n								\n									\n									 \n									\n								\n							\n				\n			\n				\n				\n				\n				\n				\n					\n								\n									\n								\n								\n									\n									 \n									\n								\n							\n				\n			\n				\n				\n				\n				\n				\n					\n								\n									\n								\n								\n									\n									\n									\n								\n							\n				\n			\n				\n				\n				\n				\n				\n					\n								\n									\n								\n								\n									\n									 \n									\n								\n							\n				\n			\n				\n				\n				\n				\n				\n					\n								\n									\n								\n								\n									\n									 \n									\n								\n							\n				\n			\n				\n				\n				\n				\n				\n					\n								\n									\n								\n								\n									\n									\n									\n								\n							\n				\n			\n				\n				\n				\n				\n				\n					\n								\n									\n								\n								\n									\n									 \n									\n								\n							\n				\n			\n				\n				\n				\n				\n				\n					\n								\n									\n								\n								\n									\n									 \n									\n								\n							\n				\n			\n				\n				\n				\n				\n				\n					\n								\n									\n								\n								\n									\n									 \n									\n								\n							\n				\n			\n				\n				\n				\n				\n				\n					\n								\n									\n								\n								\n									\n									 \n									\n								\n							\n				\n			\n				\n				\n				\n				\n				\n					\n								\n									\n								\n								\n									\n									\n									\n								\n							\n				\n			\n				\n				\n				\n				\n				\n					\n								\n									\n								\n								\n									\n									 \n									\n								\n							\n				\n			\n				\n				\n				\n				\n				\n					\n								\n									\n								\n								\n									\n									 \n									\n								\n							\n				\n			\n				\n				\n				\n				\n				\n					\n								\n									\n								\n								\n									\n									\n									\n								\n							\n				\n				\n									\n								\n														\n							\n				\n			\n			 \n				\n				\n			 \n				\n				\n				\n				\n				\n				\n				UNLEASH LIMITLESS POTENTIAL \nPersonal Potential ERG Potential Organizational Potential\n \n \n			 \n				\n				\n				Unleash the leadership talent within your ERGs. In today’s business environment—disrupted by continuous change and the upheaval brought about by COVID-19—leaders must be agile enough to meet current business challenges\, and yet provide a stable and secure working environment for their members. \nLearn how your ERGs can continue to enhance your company’s strategy\, performance\, culture\, and return on investment (ROI). \n\n			 \n				\n				\n				Who Attends the Annual ERG Summit?\n			 \n				\n				\n				\nLeaders of employee resource groups\nHR staff involved with the group\nExecutive sponsors and managers working with ERGs\nOther members of the HR and OD community who are involved in diversity and inclusion efforts–including\, but not limited to employee resource group initiatives\n\n			 \n				\n				\n				Program Highlights\n			 \n				\n				\n				\n\nThis week-long online event will feature a deep dive into a virtual ideation process.\nEach ERG team will walk away with a new initiative to implement\nSessions are scheduled to fit your work day:  Kick-off presentations\, Lunch keynotes and workshops\nMorning challenges: ERG leaders work together\nLearn from 2020 Diversity Impact Award winners; Learn and share ideas and best practices with award winners and other ERGs via virtual booths\nTake the data challenge with your own ERGs; learn how to use your data to drive high impact\nThis virtual event mirrors learning modules used in prior ERG Leadership Summits\n\n\n  \n			 \n				\n				\n				Individuals with Disabilities\n			 \n				\n				\n				\nIndividuals with disabilities who need accommodations to attend this event may contact Annette Yakushi at ayakushi@marshall.usc.edu; 310-702-9814; It is requested that individuals requiring accommodations or auxiliary aids such as sign language interpreters and alternative format materials notify us at least 10 days prior to the event. Every reasonable effort will be made to provide reasonable accommodations in an effective and timely manner.\n			 \n			 \n				\n				\n				\n				\n				\n				DETAILS:\nVirtual Event \n			 \n				Plan your ERG Summit Experience!\n			\n				\n				\n				Registration for the ERG Leadership Summit will close on Thursday\, October 15\, 12:00 am PST. \n			 \n				View the Agenda\n			\n				Register for Program\n			\n				\n				\n				Create Your Custom ERG Event: Merge Your Company’s Content with the 2020 Virtual Summit Let our Thought Leaders help you plan your own customized company ERG week to compliment this virtual ERG event. Contact us for more information. \nPricing\nCEO Non-Sponsor: $495 CEO Sponsor: $395 \nPlease use your CEO sponsor discount code. If you need assistance with this\, contact Vivian Jimenez. \nDiscount\n5% group discount for teams of 5 – 10 people; The discount is automatically available on the event registration page. For groups of more than 10 or for assistance\, contact Vivian Jimenez. \nERG Summit Sponsorship Options Available\nSponsorship options range between Patron Level: $5\,000 to Partner Level: $50\,000. For additional sponsorship details contact: \nJennifer Sparks Taylor Director\, Executive Education sparksj@marshall.usc.edu (+1) 323-309-0039  \nTheresa M. Welbourne\, PhD ERG Program Director and CEO Affiliated Research Scientist theresa@eepulse.com  \n			 \n			 \n				\n				\n			 \n				\n				\n			 \n				\n				\n				\n				\n					\n				\n				\n				\n				\n				\n				\n				Benefits to Attending the CEO ERG Leadership Summit\n			 \n				\n				\n				\n				\n			\n			 \n				\n				\n				\n				\n				\n				\n					\n					\n						Event Hosts\n						\n					\n				 \n			 \n				\n				\n				\n					\n					\n						\n						           \n					\n				 \n			 \n				\n				\n				\n					\n					\n						\n						  \n \n					\n				 \n			 \n			 \n				\n				\n			 \n				\n				\n			 \n				\n				\n				\n				\n					\n				\n				\n				\n				\n				\n				\n				ERG Summit Presenters\n			 \n				\n				\n				Additional speakers to be confirmed \n \n Keynote Presentation:  Bank of America\n			 \n			 \n				\n				\n			 \n				\n				\n				\n				\n				\n				\n				\n				\n					Theresa M. Welbourne\n					Affiliated Senior Research Scientist \n					Center for Effective Organizations \n					\n				 \n			 \n			 \n				\n				\n				\n				\n				\n				\n				\n					Wil Lewis\n					Senior Vice President\, Diversity & Inclusion \n					Bank of America \n					\n				 \n			 \n			 \n				\n				\n				\n				\n				\n				\n				\n					Nathaniel M. Hyde\n					Managing Director Market Trust Executive \n					Bank of America \n					\n				 \n			 \n			 \n				\n				\n				\n				\n				\n				\n				\n					Richard L. Nichols\, Jr.\n					Managing Director South Atlantic Division Executive \n					Bank of America \n					\n				 \n			 \n			 \n				\n				\n			 \n				\n				\n				\n				\n				\n				\n				\n				\n					Sheryl Battles\n					Vice President\, Global Diversity\, Inclusion and Engagement  \n					Pitney Bowes Inc. \n					\n				 \n			 \n			 \n				\n				\n				\n				\n				\n				\n				\n					David L. Casey\n					Vice President\, Workforce Strategies and Chief Diversity Officer \n					President\, CVS Health Employee Relief Fund \n					\n				 \n			 \n			 \n				\n				\n				\n				\n				\n				\n				\n					Jason Chan\n					Vice President\, Asian Leaders Alliance \n					Technology Enablement\, Guidewire\n					\n				 \n			 \n			 \n				\n				\n				\n				\n				\n				\n				\n					Allen Chen\n					Senior Vice President\, Global Diversity & Inclusion \n					Bank of America\n					\n				 \n			 \n			 \n				\n				\n			 \n				\n				\n				\n				\n				\n				\n				\n				\n					Anna Ettin\n					Senior Employee Resource & Inclusion Leader \n					Amazon \n					\n				 \n			 \n			 \n				\n				\n				\n				\n				\n				\n				\n					  Andres Gonzalez\n					Vice President\, Chief Diversity Officer  \n					Froedtert & Medical College of Wisconsin \n					\n				 \n			 \n			 \n				\n				\n				\n				\n				\n				\n				\n					Ashleigh Hargrave\n					Director of Clinical Health Equity for the Greater Winston-Salem \n					Novant Health \n					\n				 \n			 \n			 \n				\n				\n				\n				\n				\n				\n				\n					Mable Huang\n					Asian Leaders Alliance Communications Lead  Asians@ Airbnb ERG Global Chair \n					Advocacy Strategist at Airbnb\n					\n				 \n			 \n			 \n				\n				\n			 \n				\n				\n				\n				\n				\n				\n				\n				\n					Dr. Edward E. Hubbard\, Ph.D.\n					President and CEO \n					Hubbard & Hubbard\, Inc.\n					\n				 \n			 \n			 \n				\n				\n				\n				\n				\n				\n				\n					Cile Johnson\n					Chief Business Officer \n					Talent Dimensions\n					\n				 \n			 \n			 \n				\n				\n				\n				\n				\n				\n				\n					Paul Martin\n					Senior Vice President and Chief Diversity Officer \n					Sony Pictures Entertainment (SPE)\n					\n				 \n			 \n			 \n				\n				\n				\n				\n				\n				\n				\n					Heidi E. Moore\n					Director of Emerging Markets & Inclusion \n					Froedtert Health\n					\n				 \n			 \n			 \n				\n				\n			 \n				\n				\n				\n				\n				\n				\n				\n				\n					Michael Nobleza\n					Founder & Executive Director \n					#BringItAll\n					\n				 \n			 \n			 \n				\n				\n				\n				\n				\n				\n				\n					Rich Robles\n					Senior Director\, Diversity & Inclusion \n					Novant Healt\n					\n				 \n			 \n			 \n				\n				\n				\n				\n				\n				\n				\n					Joseph Santana\n					Podcast Creator and Host \n					ERG PowerTalk \n					\n				 \n			 \n			 \n				\n				\n				\n				\n				\n				\n				\n					Imani Sims\n					Senior Specialist\, Equity & Belonging \n					Zillow Group\n					\n				 \n			 \n			 \n				\n				\n			 \n				\n				\n				\n				\n				\n				\n				\n				\n					Varun Soni\n					Dean of Religious Life \n					University of Southern California \n					\n				 \n			 \n			 \n				\n				\n				\n				\n				\n				\n				\n					Eli Weiss\n					Manager\, Equity and Belonging \n					ZillowGroup\n					\n				 \n			 \n			 \n				\n				\n				\n			 \n				\n				\n				\n			 \n				\n				\n			 \n				\n				\n				\n				\n				\n				\n				 Additional Keynote Presenters\n			 \n			 \n				\n				\n			 \n				\n				\n				\n				\n				\n				\n				\n				\n					 Anese Cavanaugh\n					Contagious Leadership Author and Advisor \n					The IEP Method®\n					\n				 \n			 \n			 \n				\n				\n				\n				\n				\n				\n				\n					Hugh Molotsi\n					Founder \n					Ujama Inc.\n					\n				 \n			 \n			 \n				\n				\n				\n				\n				\n				\n				\n					Mary M. O'Hara\n					Chief Human Resources Officer & Senior Vice President of Internal Communications \n					Blue Shield of California\n					\n				 \n			 \n			 \n				\n				\n				\n			 \n				\n				\n			 \n				\n				\n			 \n				\n				\n				\n				\n					\n				\n				\n				\n				\n				\n				\n				Certificate in Employee Resource Group (ERG) Leadership \nAs you advance through your journey as an ERG leader\, the ERG leadership certificate can help you not only during your time as an ERG leader\, but also strengthen your skills for future\, non-ERG leadership roles. The ERG Certificate program will help move you ahead on your journey from where you are now\, to your next role. \n			 \n			 \n				\n				\n				\n				Learn More
URL:https://ceo.usc.edu/event/erg-leadership-summit-week-a-virtual-event/
LOCATION:Virtual\, CA\, United States
CATEGORIES:ERG Summit,Workshops
ATTACH;FMTTYPE=image/jpeg:https://ceo.usc.edu/wp-content/uploads/2020/06/mainpic-e1592436730133.jpg
ORGANIZER;CN="Annette Yakushi":MAILTO:ayakushi@marshall.usc.edu
END:VEVENT
END:VCALENDAR