BEGIN:VCALENDAR
VERSION:2.0
PRODID:-//USC Center for Effective Organizations - ECPv6.15.20//NONSGML v1.0//EN
CALSCALE:GREGORIAN
METHOD:PUBLISH
X-WR-CALNAME:USC Center for Effective Organizations
X-ORIGINAL-URL:https://ceo.usc.edu
X-WR-CALDESC:Events for USC Center for Effective Organizations
REFRESH-INTERVAL;VALUE=DURATION:PT1H
X-Robots-Tag:noindex
X-PUBLISHED-TTL:PT1H
BEGIN:VTIMEZONE
TZID:America/Los_Angeles
BEGIN:DAYLIGHT
TZOFFSETFROM:-0800
TZOFFSETTO:-0700
TZNAME:PDT
DTSTART:20200308T100000
END:DAYLIGHT
BEGIN:STANDARD
TZOFFSETFROM:-0700
TZOFFSETTO:-0800
TZNAME:PST
DTSTART:20201101T090000
END:STANDARD
BEGIN:DAYLIGHT
TZOFFSETFROM:-0800
TZOFFSETTO:-0700
TZNAME:PDT
DTSTART:20210314T100000
END:DAYLIGHT
BEGIN:STANDARD
TZOFFSETFROM:-0700
TZOFFSETTO:-0800
TZNAME:PST
DTSTART:20211107T090000
END:STANDARD
BEGIN:DAYLIGHT
TZOFFSETFROM:-0800
TZOFFSETTO:-0700
TZNAME:PDT
DTSTART:20220313T100000
END:DAYLIGHT
BEGIN:STANDARD
TZOFFSETFROM:-0700
TZOFFSETTO:-0800
TZNAME:PST
DTSTART:20221106T090000
END:STANDARD
END:VTIMEZONE
BEGIN:VEVENT
DTSTART;TZID=America/Los_Angeles:20211013T080000
DTEND;TZID=America/Los_Angeles:20211013T090000
DTSTAMP:20260422T163141
CREATED:20210930T163359Z
LAST-MODIFIED:20211001T171211Z
UID:69283-1634112000-1634115600@ceo.usc.edu
SUMMARY:Evolving Operating Models Under Covid-19
DESCRIPTION:Evolving Operating Models Under Covid-19Speakers: Alec Levenson and Beth GundersonWednesday October 138:00am – 9:00am PT\nAs the Covid-19 pandemic continues\, business model execution has been hampered by continued disruptions to operations and talent markets. The simultaneous challenges of managing supply chain disruptions\, fluctuating consumer demand\, and uncertainty over the future of in-person work have added major complexity to the expertise needed for successful strategy execution. \nThis webinar will address the challenges of defining and building the expertise required to \n\nMaintain existing operations while dealing with Covid-induced operational and supply chain uncertainty\nBuild the capability needed to address evolving customer and shareholder value propositions\, while maximizing the employee value proposition\n\n			 \n				Register for Webinar\n			\n			 \n				\n				\n			 \n				\n				\n				\n				\n				\n				\n				SPEAKERS\n			 \n			 \n				\n				\n			 \n				\n				\n				\n				\n				\n				\n				\n				\n					Alec R. Levenson\, Ph.D.\n					\n					CEO Senior Research Scientist \n					\n				 \n			 \n			 \n				\n				\n				\n				\n				\n				\n				\n					Beth Gunderson\n					\n					CEO Affiliate Practitioner & Minikahda Partners
URL:https://ceo.usc.edu/event/evolving-operating-models-under-covid-19/
LOCATION:Virtual\, CA\, United States
CATEGORIES:Operating Model,Webinars
ATTACH;FMTTYPE=image/jpeg:https://ceo.usc.edu/wp-content/uploads/2020/01/livewebinargraphic.jpg
END:VEVENT
END:VCALENDAR