BEGIN:VCALENDAR
VERSION:2.0
PRODID:-//USC Center for Effective Organizations - ECPv6.15.20//NONSGML v1.0//EN
CALSCALE:GREGORIAN
METHOD:PUBLISH
X-WR-CALNAME:USC Center for Effective Organizations
X-ORIGINAL-URL:https://ceo.usc.edu
X-WR-CALDESC:Events for USC Center for Effective Organizations
REFRESH-INTERVAL;VALUE=DURATION:PT1H
X-Robots-Tag:noindex
X-PUBLISHED-TTL:PT1H
BEGIN:VTIMEZONE
TZID:America/Los_Angeles
BEGIN:DAYLIGHT
TZOFFSETFROM:-0800
TZOFFSETTO:-0700
TZNAME:PDT
DTSTART:20210314T100000
END:DAYLIGHT
BEGIN:STANDARD
TZOFFSETFROM:-0700
TZOFFSETTO:-0800
TZNAME:PST
DTSTART:20211107T090000
END:STANDARD
BEGIN:DAYLIGHT
TZOFFSETFROM:-0800
TZOFFSETTO:-0700
TZNAME:PDT
DTSTART:20220313T100000
END:DAYLIGHT
BEGIN:STANDARD
TZOFFSETFROM:-0700
TZOFFSETTO:-0800
TZNAME:PST
DTSTART:20221106T090000
END:STANDARD
BEGIN:DAYLIGHT
TZOFFSETFROM:-0800
TZOFFSETTO:-0700
TZNAME:PDT
DTSTART:20230312T100000
END:DAYLIGHT
BEGIN:STANDARD
TZOFFSETFROM:-0700
TZOFFSETTO:-0800
TZNAME:PST
DTSTART:20231105T090000
END:STANDARD
END:VTIMEZONE
BEGIN:VEVENT
DTSTART;TZID=America/Los_Angeles:20220421T080000
DTEND;TZID=America/Los_Angeles:20220421T094500
DTSTAMP:20260423T064513
CREATED:20220401T160142Z
LAST-MODIFIED:20220419T133159Z
UID:71040-1650528000-1650534300@ceo.usc.edu
SUMMARY:EEN Session: Employee listening: Intelligence collecting or collective intelligence?
DESCRIPTION:Employee listening: Intelligence collecting or collective intelligence?\nSession Leader: Max Blumberg\nThursday April 21\, 2022\n8:00am PT / 11:00am ET / 3:00pm GMT / 4:00pm BST\nVendors of employee listening and related technologies offer a wide range of options with little objective guidance on what they are best used for\, and how to decide among them. This session addresses: To what extent do current technologies provide intelligence that informs management decision-making? And to what extent do these technologies facilitate collaboration in the service of collective intelligence? \nTopics to be covered include: \n\nWhat do your listening platforms do?\nWhat don’t they do?\nWhat more do you need from them?\n\n			 \n			 \n				\n				\n				\n				Contact Us to Join EEN Meetings\n			\n				Learn more about EEN\n			\n			 \n				\n				\n			 \n				\n				\n				\n				\n				\n				\n				SPEAKER\n			 \n			 \n				\n				\n			 \n				\n				\n				\n				\n				\n				\n				\n				\n					Max Blumberg\, Ph.D.\n					\n					Founder Blumberg Partnership
URL:https://ceo.usc.edu/event/een-session-intelligence-collecting-or-collective-intelligence/
LOCATION:Virtual\, CA\, United States
CATEGORIES:EEN
ATTACH;FMTTYPE=image/png:https://ceo.usc.edu/wp-content/uploads/2021/12/2022-EEN-Upcoming-Events-.png
ORGANIZER;CN="Vivian Jimenez":MAILTO:vivianji@marshall.usc.edu
END:VEVENT
END:VCALENDAR