BEGIN:VCALENDAR
VERSION:2.0
PRODID:-//USC Center for Effective Organizations - ECPv6.15.20//NONSGML v1.0//EN
CALSCALE:GREGORIAN
METHOD:PUBLISH
X-WR-CALNAME:USC Center for Effective Organizations
X-ORIGINAL-URL:https://ceo.usc.edu
X-WR-CALDESC:Events for USC Center for Effective Organizations
REFRESH-INTERVAL;VALUE=DURATION:PT1H
X-Robots-Tag:noindex
X-PUBLISHED-TTL:PT1H
BEGIN:VTIMEZONE
TZID:America/Los_Angeles
BEGIN:DAYLIGHT
TZOFFSETFROM:-0800
TZOFFSETTO:-0700
TZNAME:PDT
DTSTART:20220313T100000
END:DAYLIGHT
BEGIN:STANDARD
TZOFFSETFROM:-0700
TZOFFSETTO:-0800
TZNAME:PST
DTSTART:20221106T090000
END:STANDARD
BEGIN:DAYLIGHT
TZOFFSETFROM:-0800
TZOFFSETTO:-0700
TZNAME:PDT
DTSTART:20230312T100000
END:DAYLIGHT
BEGIN:STANDARD
TZOFFSETFROM:-0700
TZOFFSETTO:-0800
TZNAME:PST
DTSTART:20231105T090000
END:STANDARD
BEGIN:DAYLIGHT
TZOFFSETFROM:-0800
TZOFFSETTO:-0700
TZNAME:PDT
DTSTART:20240310T100000
END:DAYLIGHT
BEGIN:STANDARD
TZOFFSETFROM:-0700
TZOFFSETTO:-0800
TZNAME:PST
DTSTART:20241103T090000
END:STANDARD
END:VTIMEZONE
BEGIN:VEVENT
DTSTART;TZID=America/Los_Angeles:20230308T080000
DTEND;TZID=America/Los_Angeles:20230308T090000
DTSTAMP:20260422T114653
CREATED:20230222T225427Z
LAST-MODIFIED:20230228T000835Z
UID:73957-1678262400-1678266000@ceo.usc.edu
SUMMARY:Webinar: Embracing Uncertainty with Agile Work Design Experiments
DESCRIPTION:Embracing Uncertainty with Agile Work Design Experiments\nWednesday\, March 8\, 20238am PT | 11am PT | 4pm GMT \nIncreasing change\, fluidity and uncertainty about future work arrangements and the design of work and organizations requires that HR leaders and their constituents embrace uncertainty. Work\, like so much else\, will be uncertain and perpetually “upgraded.” Yet\, that need not be a recipe for random chaos nor paralysis. In this webinar\, John Boudreau and Alec Levenson will chat about how existing approaches to agile product/software development experiments can offer frameworks and tools that could be applied to agile work design experiments. \n \n			 \n				Register for the Webinar\n			\n			 \n				\n				\n			 \n				\n				\n			 \n				\n				\n				\n				\n					\n				\n				\n				\n				\n				\n				\n				Speaker\n			 \n			 \n				\n				\n			 \n				\n				\n				\n				\n				\n				\n				\n				\n					Dr John Boudreau\n					 Professor Emeritus and CEO Senior Research Scientist
URL:https://ceo.usc.edu/event/embracing-uncertainty-with-agile-work-design-experiments/
LOCATION:Virtual\, CA\, United States
CATEGORIES:Webinars
ATTACH;FMTTYPE=image/png:https://ceo.usc.edu/wp-content/uploads/2023/02/1.png
ORGANIZER;CN="Vivian Jimenez":MAILTO:vivianji@marshall.usc.edu
END:VEVENT
END:VCALENDAR