BEGIN:VCALENDAR
VERSION:2.0
PRODID:-//USC Center for Effective Organizations - ECPv6.15.20//NONSGML v1.0//EN
CALSCALE:GREGORIAN
METHOD:PUBLISH
X-WR-CALNAME:USC Center for Effective Organizations
X-ORIGINAL-URL:https://ceo.usc.edu
X-WR-CALDESC:Events for USC Center for Effective Organizations
REFRESH-INTERVAL;VALUE=DURATION:PT1H
X-Robots-Tag:noindex
X-PUBLISHED-TTL:PT1H
BEGIN:VTIMEZONE
TZID:America/Los_Angeles
BEGIN:DAYLIGHT
TZOFFSETFROM:-0800
TZOFFSETTO:-0700
TZNAME:PDT
DTSTART:20220313T100000
END:DAYLIGHT
BEGIN:STANDARD
TZOFFSETFROM:-0700
TZOFFSETTO:-0800
TZNAME:PST
DTSTART:20221106T090000
END:STANDARD
BEGIN:DAYLIGHT
TZOFFSETFROM:-0800
TZOFFSETTO:-0700
TZNAME:PDT
DTSTART:20230312T100000
END:DAYLIGHT
BEGIN:STANDARD
TZOFFSETFROM:-0700
TZOFFSETTO:-0800
TZNAME:PST
DTSTART:20231105T090000
END:STANDARD
BEGIN:DAYLIGHT
TZOFFSETFROM:-0800
TZOFFSETTO:-0700
TZNAME:PDT
DTSTART:20240310T100000
END:DAYLIGHT
BEGIN:STANDARD
TZOFFSETFROM:-0700
TZOFFSETTO:-0800
TZNAME:PST
DTSTART:20241103T090000
END:STANDARD
END:VTIMEZONE
BEGIN:VEVENT
DTSTART;TZID=America/Los_Angeles:20230920T080000
DTEND;TZID=America/Los_Angeles:20230920T100000
DTSTAMP:20260423T015338
CREATED:20230802T042353Z
LAST-MODIFIED:20250924T012045Z
UID:75701-1695196800-1695204000@ceo.usc.edu
SUMMARY:EEN Session: The Impact of AI on Job Design and HR Process
DESCRIPTION:The Impact of AI on Job Design and HR Process\nSession Leaders: Max Blumberg\, Sharna Wiblen\, and Alec Levenson\nWednesday September 20th\, 20238:00am PT / 11:00am ET / 3:00pm GMT(2 hours duration)\nThe rise of AI technologies has brought unprecedented opportunities and raised concerns about the future of work and the workforce. In this session\, we delve into the effects of Artificial Intelligence (AI)\, and it’s newest incarnation- ChatGPT\, on job design and the transformation of HR processes. Join us as we explore how AI reshapes individual jobs and can disrupt or replace traditional HR processes. \nTogether we will consider the following: \n\nThe dynamic interplay between AI and job design\nThe redefinition of roles\, tasks\, and skill requirements in the workplace\nUse cases for AI and ChatGPT in HR processes.\n\n			 \n			 \n				\n				\n				\n				Contact Us to Join EEN Meetings\n			\n				Learn more about EEN\n			\n			 \n				\n				\n			 \n				\n				\n				\n				\n				\n				\n				SPEAKERS\n			 \n			 \n				\n				\n			 \n				\n				\n				\n				\n				\n				\n				\n				\n					MAX BLUMBERG\, Ph.D.\n					\n					Founder Blumberg Partnership \n					\n				 \n			 \n			 \n				\n				\n				\n				\n				\n				\n				\n					SHARNA WIBLEN\, Ph.D.\n					\n					CEO Senior Research Scientist \n					\n				 \n			 \n			 \n				\n				\n				\n				\n				\n				\n				\n					ALEC R. LEVENSON\, Ph.D.\n					\n					CEO Senior Research Scientist
URL:https://ceo.usc.edu/event/een-session-the-impact-of-ai-on-job-design-and-hr-process/
LOCATION:Virtual\, CA\, United States
CATEGORIES:EEN
ATTACH;FMTTYPE=image/png:https://ceo.usc.edu/wp-content/uploads/2022/12/2023-EEN-Upcoming-Events-.png
ORGANIZER;CN="Vivian Jimenez":MAILTO:vivianji@marshall.usc.edu
END:VEVENT
END:VCALENDAR