BEGIN:VCALENDAR
VERSION:2.0
PRODID:-//USC Center for Effective Organizations - ECPv6.15.20//NONSGML v1.0//EN
CALSCALE:GREGORIAN
METHOD:PUBLISH
X-WR-CALNAME:USC Center for Effective Organizations
X-ORIGINAL-URL:https://ceo.usc.edu
X-WR-CALDESC:Events for USC Center for Effective Organizations
REFRESH-INTERVAL;VALUE=DURATION:PT1H
X-Robots-Tag:noindex
X-PUBLISHED-TTL:PT1H
BEGIN:VTIMEZONE
TZID:America/Los_Angeles
BEGIN:DAYLIGHT
TZOFFSETFROM:-0800
TZOFFSETTO:-0700
TZNAME:PDT
DTSTART:20220313T100000
END:DAYLIGHT
BEGIN:STANDARD
TZOFFSETFROM:-0700
TZOFFSETTO:-0800
TZNAME:PST
DTSTART:20221106T090000
END:STANDARD
BEGIN:DAYLIGHT
TZOFFSETFROM:-0800
TZOFFSETTO:-0700
TZNAME:PDT
DTSTART:20230312T100000
END:DAYLIGHT
BEGIN:STANDARD
TZOFFSETFROM:-0700
TZOFFSETTO:-0800
TZNAME:PST
DTSTART:20231105T090000
END:STANDARD
BEGIN:DAYLIGHT
TZOFFSETFROM:-0800
TZOFFSETTO:-0700
TZNAME:PDT
DTSTART:20240310T100000
END:DAYLIGHT
BEGIN:STANDARD
TZOFFSETFROM:-0700
TZOFFSETTO:-0800
TZNAME:PST
DTSTART:20241103T090000
END:STANDARD
END:VTIMEZONE
BEGIN:VEVENT
DTSTART;VALUE=DATE:20231107
DTEND;VALUE=DATE:20231110
DTSTAMP:20260422T233659
CREATED:20230501T200259Z
LAST-MODIFIED:20231218T223607Z
UID:74822-1699315200-1699574399@ceo.usc.edu
SUMMARY:Optimizing Capability to Drive Business Performance
DESCRIPTION:Program Purpose:\nWell-designed capabilities are critical to optimize the operating model and deliver business performance. Capabilities need to be built and integrated at the business unit\, team and individual levels. This workshop is designed to increase your ability to: \n\nSystematically work through organizational performance challenges and root causes\nIdentify and prioritize the capabilities that need to be built for optimizing business performance\nDiagnose interdependent business unit\, team and individual barriers to performance\, and design solutions that work\nUnderstand how other organizations worked through the challenges of systematically improving strategy execution and operating model performance\nIdentify impact of digitalization and AI on your business processes and go-to-market systems\n\nTopics Covered:\nOrganizational Capability Overview \n\nOrganization design models\, including the Star model\nThe operating model\nOrganizational capability: the bridge between strategy & operations\n\nApproaches to Building Organizational Capability \n\nOrganizational capability building blocks\nAnalyze different levels where work takes place: business process\, team and individual. Understand the connections and how they come together to create org performance\n Driving organizational performance through the three pillars of work design\, capability\, and motivation\nSystems mindset\, diagnosis and solutions design\n\nChallenges We Face \n\nTension between investing in new org capabilities\, while maintaining existing\n\nDuring the workshop\, guest executives will share their learnings in building org capability. Experience hands-on practices through the use of case studies and tools. The session will include time to discuss your current challenges and how to best optimize your organization’s capabilities. \nTarget Audience / Who Should Attend:  \nMid-level leaders within HR and the Business who … \n\nHave experience with organization design\, including attending CEO’s Strategic Org Design l workshop\, who want to deepen their learning and skills by drilling further into organizational capabilities.\nFace key challenges impacting business performance which do not require a full organization redesign.\n\nComments from past participants:\n“Love the tools. Love the conversations. Love the case studies and lessons learned as well as additional ways of learning.” \n“Fantastic — thought provoking.” \n“Very informative. Gave me great information I can reflect on and use.” \n“The workshop is an excellent complement to the Organization Design workshops.” \n			 \n			 \n				\n				\n				\n				\n				\n				SPEAKERS\nAlec Levenson\nWinnie Doeswijk \nRaymond Eby\nCarl Watson\nSarah Weaver\n			 \n				\n				\n				Registration Deadline\nOctober 27\, 2023 \nLocation\nMondelēz Global International Headquarters905 W Fulton Market\, Chicago\, IL 60607 \nPricing\nNon-Sponsor: $3\,995Sponsor: $3\,295 \nDiscount\n15% Group discount for teams of more than 3 people. Contact Vivian Jimenez for details. \n			 \n				\n				\n				CREDITS / CEUs:\nThe following Continuing Education Units (CEU) are available for this workshop: \n• 2 CEUs • Course #: CEO-012 \n			 \n				Workshop Agenda\n			\n				Register Now\n			\n			 \n				\n				\n			 \n				\n				\n			 \n				\n				\n				\n				\n					\n				\n				\n				\n				\n				\n				\n				Speakers\n			 \n			 \n				\n				\n			 \n				\n				\n				\n				\n				\n				\n				\n				\n					Alec R. Levenson\n					Senior Research Scientist   \n					Center for Effective Organizations \n					\n				 \n			 \n			 \n				\n				\n				\n				\n				\n				\n				\n					Winnie Doeswijk\n					Global Head of Organisation Development \n					Novartis \n					\n				 \n			 \n			 \n				\n				\n				\n				\n				\n				\n				\n					Raymond B. Eby\n					CEO \n					INW \n					\n				 \n			 \n			 \n				\n				\n				\n				\n				\n				\n				\n					Carl Watson\n					VP\, Transformation\, Organizational Strategy\, & Culture (TOC)  \n					NIKE\, Inc. \n					\n				 \n			 \n			 \n				\n				\n				\n				\n				\n				\n				\n					Sarah Weaver\n					Director of OD & Culture Activation  \n					Microsoft \n					\n				 \n			 \n			 \n				\n				\n			 \n				\n				\n			 \n				\n				\n				\n				\n					\n				\n				\n				\n				\n				\n				\n				Additional Information\n			 \n			 \n				\n				\n			 \n				\n				\n				\n				\n				\n				\n				To pay by check or invoice\nEmail Vivian Jimenez or call (213) 740-9814 \n			 \n			 \n				\n				\n				\n				\n				\n				Cancellations\nOn or before 10/16/23 the cancellation fee is $250.00. \nFrom 10/17/23 to 10/30/23\, 50% of the fee will be refunded. \nRegistration fees are non-refundable for cancellations received after 10/30/23 and for no-shows. \n			 \n			 \n				\n				\n				\n				\n				\n				Event FAQ\nEmail Vivian Jimenez or call (213) 740-9814  \nIf you are with a sponsor company and do not have your discount code\, log into your page by clicking on your organization’s name on the CEO Sponsor Companies page (under Sponsor CEO tab) to get the code. If you do not have your password\, please contact us.
URL:https://ceo.usc.edu/event/optimizing-capability-drive-business-performance/
LOCATION:Mondelēz Global International Headquarters\, Chicago\, IL\, 905 W Fulton Market\, Chicago\, IL\, 60607\, United States
ATTACH;FMTTYPE=image/png:https://ceo.usc.edu/wp-content/uploads/2023/05/Optimizing-Capability.png
ORGANIZER;CN="Vivian Jimenez":MAILTO:vivianji@marshall.usc.edu
END:VEVENT
END:VCALENDAR