BEGIN:VCALENDAR
VERSION:2.0
PRODID:-//USC Center for Effective Organizations - ECPv6.15.20//NONSGML v1.0//EN
CALSCALE:GREGORIAN
METHOD:PUBLISH
X-WR-CALNAME:USC Center for Effective Organizations
X-ORIGINAL-URL:https://ceo.usc.edu
X-WR-CALDESC:Events for USC Center for Effective Organizations
REFRESH-INTERVAL;VALUE=DURATION:PT1H
X-Robots-Tag:noindex
X-PUBLISHED-TTL:PT1H
BEGIN:VTIMEZONE
TZID:America/Los_Angeles
BEGIN:DAYLIGHT
TZOFFSETFROM:-0800
TZOFFSETTO:-0700
TZNAME:PDT
DTSTART:20230312T100000
END:DAYLIGHT
BEGIN:STANDARD
TZOFFSETFROM:-0700
TZOFFSETTO:-0800
TZNAME:PST
DTSTART:20231105T090000
END:STANDARD
BEGIN:DAYLIGHT
TZOFFSETFROM:-0800
TZOFFSETTO:-0700
TZNAME:PDT
DTSTART:20240310T100000
END:DAYLIGHT
BEGIN:STANDARD
TZOFFSETFROM:-0700
TZOFFSETTO:-0800
TZNAME:PST
DTSTART:20241103T090000
END:STANDARD
BEGIN:DAYLIGHT
TZOFFSETFROM:-0800
TZOFFSETTO:-0700
TZNAME:PDT
DTSTART:20250309T100000
END:DAYLIGHT
BEGIN:STANDARD
TZOFFSETFROM:-0700
TZOFFSETTO:-0800
TZNAME:PST
DTSTART:20251102T090000
END:STANDARD
END:VTIMEZONE
BEGIN:VEVENT
DTSTART;TZID=America/Los_Angeles:20240820T100000
DTEND;TZID=America/Los_Angeles:20240827T100000
DTSTAMP:20260422T130624
CREATED:20240812T164135Z
LAST-MODIFIED:20240826T163500Z
UID:79497-1724148000-1724752800@ceo.usc.edu
SUMMARY:Learn & Connect Series: Learn about the Innovation & Success Sharing Competition
DESCRIPTION:Join us for a Learn & Connect online session to learn about the Innovation & Success Sharing Competition!\nSession Leader: Theresa Welbourne\n\n\nTuesday\, August 27\, 2024\n9:00-9:30am PT\n\n\n			 \n				\n				\n				\nThis competition is a great way to earn recognition for the work you and your team are doing and engage your team in fun and useful innovation work without taking up too much time. A 3-minute video is all that is required to compete\, and it’s an excellent opportunity to share\, learn\, and showcase your organization. The online session will include an overview of the competition\, and we’ll answer any questions so that you can be ready to submit by the deadline\, August 30th\, at 11:59 pm PDT.\n			 \n			 \n				\n				\n				\n				Register for the August 27\, 2024 Session at 9am PT\n			\n				Contact Us to Attend the Global ERG Summit\n			\n			 \n				\n				\n			 \n				\n				\n				\n				\n				\n				\n				SPEAKER\n			 \n			 \n				\n				\n			 \n				\n				\n				\n				\n				\n				\n				\n				\n					THERESA M. WELBOURNE\n					\n					\nAffiliated Senior Research Scientist\, Center for Effective Organizations\n\n\nWill and Maggie Brooke Professor in Entrepreneurship and Executive Director\, The University of Alabama\n\n 
URL:https://ceo.usc.edu/event/learn-connect-series-learn-about-the-innovation-success-sharing-competition/
LOCATION:Virtual\, CA\, United States
CATEGORIES:ERG,Learn & Connect Series
ATTACH;FMTTYPE=image/png:https://ceo.usc.edu/wp-content/uploads/2023/11/New-Learn-and-Connect-1140x576-1.png
ORGANIZER;CN="Vivian Jimenez":MAILTO:vivianji@marshall.usc.edu
END:VEVENT
END:VCALENDAR