BEGIN:VCALENDAR
VERSION:2.0
PRODID:-//USC Center for Effective Organizations - ECPv6.15.20//NONSGML v1.0//EN
CALSCALE:GREGORIAN
METHOD:PUBLISH
X-WR-CALNAME:USC Center for Effective Organizations
X-ORIGINAL-URL:https://ceo.usc.edu
X-WR-CALDESC:Events for USC Center for Effective Organizations
REFRESH-INTERVAL;VALUE=DURATION:PT1H
X-Robots-Tag:noindex
X-PUBLISHED-TTL:PT1H
BEGIN:VTIMEZONE
TZID:America/Los_Angeles
BEGIN:DAYLIGHT
TZOFFSETFROM:-0800
TZOFFSETTO:-0700
TZNAME:PDT
DTSTART:20220313T100000
END:DAYLIGHT
BEGIN:STANDARD
TZOFFSETFROM:-0700
TZOFFSETTO:-0800
TZNAME:PST
DTSTART:20221106T090000
END:STANDARD
BEGIN:DAYLIGHT
TZOFFSETFROM:-0800
TZOFFSETTO:-0700
TZNAME:PDT
DTSTART:20230312T100000
END:DAYLIGHT
BEGIN:STANDARD
TZOFFSETFROM:-0700
TZOFFSETTO:-0800
TZNAME:PST
DTSTART:20231105T090000
END:STANDARD
BEGIN:DAYLIGHT
TZOFFSETFROM:-0800
TZOFFSETTO:-0700
TZNAME:PDT
DTSTART:20240310T100000
END:DAYLIGHT
BEGIN:STANDARD
TZOFFSETFROM:-0700
TZOFFSETTO:-0800
TZNAME:PST
DTSTART:20241103T090000
END:STANDARD
END:VTIMEZONE
BEGIN:VTIMEZONE
TZID:America/Chicago
BEGIN:DAYLIGHT
TZOFFSETFROM:-0600
TZOFFSETTO:-0500
TZNAME:CDT
DTSTART:20220313T080000
END:DAYLIGHT
BEGIN:STANDARD
TZOFFSETFROM:-0500
TZOFFSETTO:-0600
TZNAME:CST
DTSTART:20221106T070000
END:STANDARD
BEGIN:DAYLIGHT
TZOFFSETFROM:-0600
TZOFFSETTO:-0500
TZNAME:CDT
DTSTART:20230312T080000
END:DAYLIGHT
BEGIN:STANDARD
TZOFFSETFROM:-0500
TZOFFSETTO:-0600
TZNAME:CST
DTSTART:20231105T070000
END:STANDARD
BEGIN:DAYLIGHT
TZOFFSETFROM:-0600
TZOFFSETTO:-0500
TZNAME:CDT
DTSTART:20240310T080000
END:DAYLIGHT
BEGIN:STANDARD
TZOFFSETFROM:-0500
TZOFFSETTO:-0600
TZNAME:CST
DTSTART:20241103T070000
END:STANDARD
END:VTIMEZONE
BEGIN:VEVENT
DTSTART;TZID=America/Los_Angeles:20231005T080000
DTEND;TZID=America/Los_Angeles:20231005T100000
DTSTAMP:20260422T212422
CREATED:20230911T151440Z
LAST-MODIFIED:20250924T012155Z
UID:76052-1696492800-1696500000@ceo.usc.edu
SUMMARY:EEN Session: Executive Team Culture: Fostering Trust or Driving Accountability?
DESCRIPTION:Executive Team Culture: Fostering Trust or Driving Accountability? \nSession Leaders: Paul Taffinder (Taffinder Consulting)\, Max Blumberg\, and Sharna Wiblen\nThursday\, October 5th\, 20238:00am PT / 11:00am ET / 4:00pm BST(2 hours duration)\nPaul Taffinder\, Taffinder Consulting\, joins us for this session where we compare different senior executive team cultures. Navigating the complexities of senior executive leadership often involves striking a delicate balance between two fundamental perspectives. Some senior executives emphasize the importance of structuring the organization correctly and establishing clear lines of accountability. They believe that this foundation is crucial for operational efficiency and success. On the other hand\, there are those who prioritize understanding the broader context and focusing on what truly matters. They invest in the “how” and “why” of collaboration\, recognising that meaningful\, context-driven collaboration can lead to organisational effectiveness. \nJoin us as we explore: \n\nStructured strategies for tackling cultural obstacles and discovering resolutions.\nCrafting a culture of trust that permeates throughout your entire organisation.\nThe role of leadership in balancing the role of commitment and compliance.\nFostering trust and accountability during times of organisational change.\n\n			 \n			 \n				\n				\n				\n				Contact Us to Join EEN Meetings\n			\n				Learn more about EEN\n			\n			 \n				\n				\n			 \n				\n				\n				\n				\n				\n				\n				SPEAKERS\n			 \n			 \n				\n				\n			 \n				\n				\n				\n				\n				\n				\n				\n				\n					PAUL TAFFINDER\n					\n					Taffinder Consulting \n					\n				 \n			 \n			 \n				\n				\n				\n				\n				\n				\n				\n					MAX BLUMBERG\, Ph.D.\n					\n					Founder Blumberg Partnership \n					\n				 \n			 \n			 \n				\n				\n				\n				\n				\n				\n				\n					SHARNA WIBLEN\, Ph.D.\n					\n					CEO Senior Research Scientist
URL:https://ceo.usc.edu/event/een-session-executive-team-culture-fostering-trust-or-driving-accountability/
LOCATION:Virtual\, CA\, United States
CATEGORIES:EEN
ATTACH;FMTTYPE=image/png:https://ceo.usc.edu/wp-content/uploads/2022/12/2023-EEN-Upcoming-Events-.png
ORGANIZER;CN="Vivian Jimenez":MAILTO:vivianji@marshall.usc.edu
END:VEVENT
BEGIN:VEVENT
DTSTART;TZID=America/Chicago:20231019T080000
DTEND;TZID=America/Chicago:20231019T170000
DTSTAMP:20260422T212422
CREATED:20230807T232712Z
LAST-MODIFIED:20230913T150334Z
UID:75757-1697702400-1697734800@ceo.usc.edu
SUMMARY:In-Person EEN Session: Chicago
DESCRIPTION:In-Person EEN Session: Chicago\nSession Leaders: Alec Levenson and Jennifer J. Deal\nThursday\, October 19\, 2023 | In PersonPepsiCo\, Chicago8am-5pm CST\nThis one-day meeting will feature a blended format of participant-generated topics plus the following facilitator-led sessions: \n\nThe challenges of balancing compensation\, productivity\, work load and profits\nPutting team effectiveness at the center of strategy execution\n\nFeel free to submit topics for discussion ahead of time.  We will also be asking for suggestions on the day. \n			 \n			 \n				\n				\n				\n				Contact Us for More Info\n			\n				Learn more about EEN\n			\n				Agenda\n			\n			 \n				\n				\n			 \n				\n				\n				\n				\n				\n				\n				SPEAKERS\n			 \n			 \n				\n				\n			 \n				\n				\n				\n				\n				\n				\n				\n				\n					ALEC R. LEVENSON\, Ph.D.\n					\n					CEO Senior Research Scientist \n					\n				 \n			 \n			 \n				\n				\n				\n				\n				\n				\n				\n					JENNIFER  J. DEAL\, Ph.D.\n					\n					CEO Senior Research Scientist
URL:https://ceo.usc.edu/event/in-person-een-session-chicago/
LOCATION:Chicago
ATTACH;FMTTYPE=image/png:https://ceo.usc.edu/wp-content/uploads/2022/12/2023-EEN-Upcoming-Events-.png
ORGANIZER;CN="Nora Hilton":MAILTO:norao@marshall.usc.edu
END:VEVENT
BEGIN:VEVENT
DTSTART;TZID=America/Los_Angeles:20231025T190000
DTEND;TZID=America/Los_Angeles:20231025T210000
DTSTAMP:20260422T212422
CREATED:20230720T001254Z
LAST-MODIFIED:20250924T012015Z
UID:75503-1698260400-1698267600@ceo.usc.edu
SUMMARY:EEN Session: Redefining the Workplace: Navigating Challenges and Opportunities in a Hybrid World
DESCRIPTION:Redefining the Workplace: Navigating Challenges and Opportunities in a Hybrid World\nSession Leaders: Sharna Wiblen and Alec Levenson\nSchedule (2 hour duration):\n\nWednesday\, October 25th Los Angeles – 7:00pm (PDT)\nThursday\, October 26th Sydney – 1:00pm (AEDT)\nThursday\, October 26th Delhi – 7:30am (IST)\n\nIn this session\, we will delve into complex\, interrelated issues that have long plagued the workplace\, focusing on the paradigm shifts brought about by: \n\nThe long-standing role of technology in enabling hybrid and remote work\nThe more recent upheaval of the COVID-19 pandemic and the sudden\, unplanned shift to remote work\n\nJoin us as we explore key topics such as productivity\, presenteeism\, performative leadership behaviours\, the impact of hybrid ways of working\, and the evolving role of the workplace as a tool for productivity and culture-building. \n  \n			 \n			 \n				\n				\n				\n				Contact Us to Join EEN Meetings\n			\n				Learn more about EEN\n			\n			 \n				\n				\n			 \n				\n				\n				\n				\n				\n				\n				SPEAKERS\n			 \n			 \n				\n				\n			 \n				\n				\n				\n				\n				\n				\n				\n				\n					SHARNA WIBLEN\, Ph.D.\n					\n					CEO Senior Research Scientist \n					\n				 \n			 \n			 \n				\n				\n				\n				\n				\n				\n				\n					ALEC R. LEVENSON\, Ph.D.\n					\n					CEO Senior Research Scientist
URL:https://ceo.usc.edu/event/een-session-redefining-the-workplace-navigating-challenges-and-opportunities-in-a-hybrid-world-with-rapid-technological-change/
LOCATION:Virtual\, CA\, United States
CATEGORIES:EEN
ATTACH;FMTTYPE=image/png:https://ceo.usc.edu/wp-content/uploads/2022/12/2023-EEN-Upcoming-Events-.png
ORGANIZER;CN="Vivian Jimenez":MAILTO:vivianji@marshall.usc.edu
END:VEVENT
END:VCALENDAR