BEGIN:VCALENDAR
VERSION:2.0
PRODID:-//USC Center for Effective Organizations - ECPv6.15.20//NONSGML v1.0//EN
CALSCALE:GREGORIAN
METHOD:PUBLISH
X-WR-CALNAME:USC Center for Effective Organizations
X-ORIGINAL-URL:https://ceo.usc.edu
X-WR-CALDESC:Events for USC Center for Effective Organizations
REFRESH-INTERVAL;VALUE=DURATION:PT1H
X-Robots-Tag:noindex
X-PUBLISHED-TTL:PT1H
BEGIN:VTIMEZONE
TZID:America/Los_Angeles
BEGIN:DAYLIGHT
TZOFFSETFROM:-0800
TZOFFSETTO:-0700
TZNAME:PDT
DTSTART:20240310T100000
END:DAYLIGHT
BEGIN:STANDARD
TZOFFSETFROM:-0700
TZOFFSETTO:-0800
TZNAME:PST
DTSTART:20241103T090000
END:STANDARD
BEGIN:DAYLIGHT
TZOFFSETFROM:-0800
TZOFFSETTO:-0700
TZNAME:PDT
DTSTART:20250309T100000
END:DAYLIGHT
BEGIN:STANDARD
TZOFFSETFROM:-0700
TZOFFSETTO:-0800
TZNAME:PST
DTSTART:20251102T090000
END:STANDARD
BEGIN:DAYLIGHT
TZOFFSETFROM:-0800
TZOFFSETTO:-0700
TZNAME:PDT
DTSTART:20260308T100000
END:DAYLIGHT
BEGIN:STANDARD
TZOFFSETFROM:-0700
TZOFFSETTO:-0800
TZNAME:PST
DTSTART:20261101T090000
END:STANDARD
END:VTIMEZONE
BEGIN:VEVENT
DTSTART;TZID=America/Los_Angeles:20250618T100000
DTEND;TZID=America/Los_Angeles:20250618T110000
DTSTAMP:20260422T121355
CREATED:20250311T162357Z
LAST-MODIFIED:20250617T164112Z
UID:81130-1750240800-1750244400@ceo.usc.edu
SUMMARY:Learn & Compete
DESCRIPTION:Learn & Compete\nSession Leader: Theresa Welbourne\n\n\nWednesday\, June 18\, 2025 10:00-11:00am PT\n\n\n			 \n				\n				\n				As part of the Innovation & Success Sharing Competition\, we are hosting a virtual Learn & Compete session (6/18\, 10-11a PT) where you’ll learn how to develop your new innovation or craft your success story\, and learn how to navigate and engage with the online competition tool\, StartupWind. This session will provide you with tips\, suggestions\, and instructions for entering the competition and to prepare yourself and your team for the Strategic ERG Leadership Summit.\nRegister to be added to the USC CEO ERG Community platform.\n			 \n				\n				\n				\nUniversity’s Notice of Non-Discrimination\nThis program is open to all eligible individuals. The Center for Effective Organizations operates all of its programs and activities consistent with the University’s Notice of Non-Discrimination. Eligibility is not determined based on race\, sex\, ethnicity\, sexual orientation\, or any other prohibited factor. \n			 \n			 \n				\n				\n				\n				Register for the June 18\, 2025 Session at 10am PT\n			\n				Contact Us to Attend the Strategic ERG Leadership Summit\n			\n			 \n				\n				\n			 \n				\n				\n				\n				\n				\n				\n				SPEAKER\n			 \n			 \n				\n				\n			 \n				\n				\n				\n				\n				\n				\n				\n				\n					THERESA M. WELBOURNE\n					\n					\nAffiliated Senior Research Scientist\, Center for Effective Organizations\n\n\nWill and Maggie Brooke Professor in Entrepreneurship and Executive Director\, The University of Alabama\n\n 
URL:https://ceo.usc.edu/event/learn-compete/
LOCATION:Virtual\, CA\, United States
ATTACH;FMTTYPE=image/png:https://ceo.usc.edu/wp-content/uploads/2025/03/New-Learn-Compete2.png
ORGANIZER;CN="Vivian Jimenez":MAILTO:vivianji@marshall.usc.edu
END:VEVENT
END:VCALENDAR